BEGIN:VCALENDAR
VERSION:2.0
PRODID:-//FFAM Moulins de France - ECPv6.15.20//NONSGML v1.0//EN
CALSCALE:GREGORIAN
METHOD:PUBLISH
X-ORIGINAL-URL:https://www.moulinsdefrance.org
X-WR-CALDESC:Évènements pour FFAM Moulins de France
REFRESH-INTERVAL;VALUE=DURATION:PT1H
X-Robots-Tag:noindex
X-PUBLISHED-TTL:PT1H
BEGIN:VTIMEZONE
TZID:Europe/Paris
BEGIN:DAYLIGHT
TZOFFSETFROM:+0100
TZOFFSETTO:+0200
TZNAME:CEST
DTSTART:20180325T010000
END:DAYLIGHT
BEGIN:STANDARD
TZOFFSETFROM:+0200
TZOFFSETTO:+0100
TZNAME:CET
DTSTART:20181028T010000
END:STANDARD
BEGIN:DAYLIGHT
TZOFFSETFROM:+0100
TZOFFSETTO:+0200
TZNAME:CEST
DTSTART:20190331T010000
END:DAYLIGHT
BEGIN:STANDARD
TZOFFSETFROM:+0200
TZOFFSETTO:+0100
TZNAME:CET
DTSTART:20191027T010000
END:STANDARD
BEGIN:DAYLIGHT
TZOFFSETFROM:+0100
TZOFFSETTO:+0200
TZNAME:CEST
DTSTART:20200329T010000
END:DAYLIGHT
BEGIN:STANDARD
TZOFFSETFROM:+0200
TZOFFSETTO:+0100
TZNAME:CET
DTSTART:20201025T010000
END:STANDARD
END:VTIMEZONE
BEGIN:VEVENT
DTSTART;TZID=Europe/Paris:20190510T130000
DTEND;TZID=Europe/Paris:20190512T150000
DTSTAMP:20260419T183317
CREATED:20190422T124058Z
LAST-MODIFIED:20220215T172950Z
UID:5551-1557493200-1557673200@www.moulinsdefrance.org
SUMMARY:Congrès FFAM 2019 Au mas de Saboth à Vers dans le Quercy
DESCRIPTION:Bulletin d’inscription au congrès 2019 \n 
URL:https://www.moulinsdefrance.org/evenement/congres-ffam-2019-au-domaine-du-mas-de-saboth-au-coeur-du-quercy/
LOCATION:Domaine Du Mas De Saboth\, 46090\, Vers
ATTACH;FMTTYPE=image/jpeg:https://www.moulinsdefrance.org/wp-content/uploads/2019/01/Congrès-2019.jpg
END:VEVENT
END:VCALENDAR